BEGIN:VCALENDAR
VERSION:2.0
PRODID:-//JB Organizing - ECPv6.15.10//NONSGML v1.0//EN
CALSCALE:GREGORIAN
METHOD:PUBLISH
X-WR-CALNAME:JB Organizing
X-ORIGINAL-URL:https://jborganizing.com
X-WR-CALDESC:Events for JB Organizing
REFRESH-INTERVAL;VALUE=DURATION:PT1H
X-Robots-Tag:noindex
X-PUBLISHED-TTL:PT1H
BEGIN:VTIMEZONE
TZID:UTC
BEGIN:STANDARD
TZOFFSETFROM:+0000
TZOFFSETTO:+0000
TZNAME:UTC
DTSTART:20200101T000000
END:STANDARD
END:VTIMEZONE
BEGIN:VEVENT
DTSTART;TZID=UTC:20211105T123000
DTEND;TZID=UTC:20211105T133000
DTSTAMP:20260423T150909
CREATED:20211002T205645Z
LAST-MODIFIED:20211015T145007Z
UID:3749-1636115400-1636119000@jborganizing.com
SUMMARY:Wasting Time Each Day? Simple Tips to ERASE Inefficiency
DESCRIPTION:This event is for a private group. \nDo you feel like you are wasting time each day? Do you feel like you are recreating the wheel each time you do something? Inefficiency is often rampant in our lives and homes and we don’t even realize it. In this presentation we review the 5 Principles of Organizing so we can make our spaces as efficient as possible. We also talk about 6 simple ways to Erase inefficiency in our daily lives using the easy to remember ERASER acronym. Walk away with practical tips for being more efficient each day.
URL:https://jborganizing.com/event/wasting-time-each-day-simple-tips-to-erase-inefficiency-2/
LOCATION:Mount Prospect Library
CATEGORIES:Organizing,Personal Development,Private Group
END:VEVENT
END:VCALENDAR