BEGIN:VCALENDAR
VERSION:2.0
PRODID:-//JB Organizing - ECPv6.15.10//NONSGML v1.0//EN
CALSCALE:GREGORIAN
METHOD:PUBLISH
X-WR-CALNAME:JB Organizing
X-ORIGINAL-URL:https://jborganizing.com
X-WR-CALDESC:Events for JB Organizing
REFRESH-INTERVAL;VALUE=DURATION:PT1H
X-Robots-Tag:noindex
X-PUBLISHED-TTL:PT1H
BEGIN:VTIMEZONE
TZID:UTC
BEGIN:STANDARD
TZOFFSETFROM:+0000
TZOFFSETTO:+0000
TZNAME:UTC
DTSTART:20210101T000000
END:STANDARD
END:VTIMEZONE
BEGIN:VEVENT
DTSTART;TZID=UTC:20220106T103000
DTEND;TZID=UTC:20220106T113000
DTSTAMP:20260423T113909
CREATED:20210828T013829Z
LAST-MODIFIED:20210828T014016Z
UID:3633-1641465000-1641468600@jborganizing.com
SUMMARY:How to Get Motivated\, Stay Motivated\, and THRIVE
DESCRIPTION:This Free Virtual Event is open to the public. Join us! \nCheck back to register or click on this link to check the library’s website for registration information.  \nDo you want to get organized? Learn something new? We share practical tips for getting motivated- no matter what you want to accomplish. Then we identify some of the obstacles that often keep us from staying motivated and learn some strategies for overcoming them. We close with a look at 6 Things that will help you to THRIVE in 2022 and beyond.
URL:https://jborganizing.com/event/how-to-get-motivated-stay-motivated-and-thrive/
LOCATION:Niles-Main District Library\, 620 E Main St\, Niles\, IL\, 49120
CATEGORIES:Free Event,Organizing,Personal Development,Virtual Event,Virtual Presentations
END:VEVENT
BEGIN:VEVENT
DTSTART;TZID=UTC:20220111T190000
DTEND;TZID=UTC:20220111T200000
DTSTAMP:20260423T113909
CREATED:20210828T014838Z
LAST-MODIFIED:20210828T014917Z
UID:3637-1641927600-1641931200@jborganizing.com
SUMMARY:How to Get Motivated\, Stay Motivated\, and THRIVE
DESCRIPTION:This Free Virtual Event is open to the public. Join us! \nClick to register on the library’s website. \nDo you want to get organized? Learn something new? We share practical tips for getting motivated- no matter what you want to accomplish. Then we identify some of the obstacles that often keep us from staying motivated and learn some strategies for overcoming them. We close with a look at 6 Things that will help you to THRIVE in 2022 and beyond.
URL:https://jborganizing.com/event/how-to-get-motivated-stay-motivated-and-thrive-2/
LOCATION:Plainfield Public Library\, Virtual\, 60544\, United States
CATEGORIES:Free Event,Organizing,Personal Development,Virtual Event,Virtual Presentations
END:VEVENT
BEGIN:VEVENT
DTSTART;TZID=UTC:20220113T190000
DTEND;TZID=UTC:20220113T200000
DTSTAMP:20260423T113909
CREATED:20211015T003615Z
LAST-MODIFIED:20211019T195626Z
UID:3802-1642100400-1642104000@jborganizing.com
SUMMARY:How to Get Motivated\, Stay Motivated\, and THRIVE
DESCRIPTION:This FREE event is virtual and open to the public. \nDo you want to get organized? Learn something new? We share practical tips for getting motivated- no matter what you want to accomplish. Then we identify some of the obstacles that often keep us from staying motivated and learn some strategies for overcoming them. We close with a look at 6 Things that will help you to THRIVE no matter what stage of life you are in. \nRegistration opens on Dec. 16 at 7 p.m. on the Antioch Public Library District website.
URL:https://jborganizing.com/event/how-to-get-motivated-stay-motivated-and-thrive-5/
LOCATION:Antioch Public Library District\, Virtual\, IL
CATEGORIES:Free Event,Organizing,Personal Development,Virtual Event,Virtual Presentations
END:VEVENT
BEGIN:VEVENT
DTSTART;VALUE=DATE:20220119
DTEND;VALUE=DATE:20220120
DTSTAMP:20260423T113909
CREATED:20210828T020209Z
LAST-MODIFIED:20210828T020245Z
UID:3644-1642550400-1642636799@jborganizing.com
SUMMARY:How to Get Motivated\, Stay Motivated and THRIVE
DESCRIPTION:This Free Virtual Event is open to the public. Join us! \nCheck back to register or click through to the City of Wheaton’s website for when registration becomes available. \nDo you want to get organized? Learn something new? We share practical tips for getting motivated- no matter what you want to accomplish. Then we identify some of the obstacles that often keep us from staying motivated and learn some strategies for overcoming them. We close with a look at 6 Things that will help you to THRIVE in 2022 and beyond. \n 
URL:https://jborganizing.com/event/how-to-get-motivated-stay-motivated-and-thrive-3/
LOCATION:City of Wheaton\, Virtual
CATEGORIES:Free Event,Organizing,Personal Development,Virtual Event,Virtual Presentations
END:VEVENT
END:VCALENDAR