BEGIN:VCALENDAR
VERSION:2.0
PRODID:-//JB Organizing - ECPv6.15.10//NONSGML v1.0//EN
CALSCALE:GREGORIAN
METHOD:PUBLISH
X-ORIGINAL-URL:https://jborganizing.com
X-WR-CALDESC:Events for JB Organizing
REFRESH-INTERVAL;VALUE=DURATION:PT1H
X-Robots-Tag:noindex
X-PUBLISHED-TTL:PT1H
BEGIN:VTIMEZONE
TZID:UTC
BEGIN:STANDARD
TZOFFSETFROM:+0000
TZOFFSETTO:+0000
TZNAME:UTC
DTSTART:20210101T000000
END:STANDARD
END:VTIMEZONE
BEGIN:VEVENT
DTSTART;TZID=UTC:20220207T180000
DTEND;TZID=UTC:20220207T190000
DTSTAMP:20260423T100656
CREATED:20210828T025631Z
LAST-MODIFIED:20210828T025710Z
UID:3665-1644256800-1644260400@jborganizing.com
SUMMARY:How to Get Motivated\, Stay Motivated and THRIVE
DESCRIPTION:This free\, virtual event is open to the public. \nCheck back for registration information or click through to the Three Rivers Library website to view when registration becomes available. \nDo you want to get organized? Learn something new? We share practical tips for getting motivated- no matter what you want to accomplish. Then we identify some of the obstacles that often keep us from staying motivated and learn some strategies for overcoming them. We close with a look at 6 Things that will help you to THRIVE in 2022 and beyond.
URL:https://jborganizing.com/event/how-to-get-motivated-stay-motivated-and-thrive-4/
LOCATION:Three Rivers Public Library District\, Virtual
CATEGORIES:Free Event,Organizing,Personal Development,Virtual Event,Virtual Presentations
END:VEVENT
END:VCALENDAR