BEGIN:VCALENDAR
VERSION:2.0
PRODID:-//JB Organizing - ECPv6.15.10//NONSGML v1.0//EN
CALSCALE:GREGORIAN
METHOD:PUBLISH
X-ORIGINAL-URL:https://jborganizing.com
X-WR-CALDESC:Events for JB Organizing
REFRESH-INTERVAL;VALUE=DURATION:PT1H
X-Robots-Tag:noindex
X-PUBLISHED-TTL:PT1H
BEGIN:VTIMEZONE
TZID:UTC
BEGIN:STANDARD
TZOFFSETFROM:+0000
TZOFFSETTO:+0000
TZNAME:UTC
DTSTART:20220101T000000
END:STANDARD
END:VTIMEZONE
BEGIN:VEVENT
DTSTART;TZID=UTC:20230321T190000
DTEND;TZID=UTC:20230321T200000
DTSTAMP:20260422T132536
CREATED:20220804T024603Z
LAST-MODIFIED:20220804T024603Z
UID:4372-1679425200-1679428800@jborganizing.com
SUMMARY:Decluttering Our Hearts and Homes: The Emotional Connection to Stuff
DESCRIPTION:Free Event that is Open to the Public.\nRegister through the link below and Join Us!\nDecluttering Our Hearts and Homes: The Emotional Connection to Stuff\n“I can’t get rid of that!” ….. This statement can be heard in every home\, in every business\, in every place…. No one is immune from the pull that “things” have on us. Everyone faces the task of decluttering at some point. In this presentation we look at specific steps to effectively declutter the spaces in which we live and work. We also examine the Why and How behind our emotional connection to things. We conclude with what we can do to embrace emotional and mental connections\, without letting them clutter our hearts. \nRegister for Free through this Link: https://www.brookfieldlibrary.info/\n 
URL:https://jborganizing.com/event/decluttering-our-hearts-and-homes-the-emotional-connection-to-stuff-2/
LOCATION:Brookfield Public Library\, 1900 N. Calhoun Rd.\, Brookfield\, WI\, 53005\, United States
CATEGORIES:Free Event,In Person Event,In Person Presentations,open to the public,Personal Development
END:VEVENT
END:VCALENDAR