BEGIN:VCALENDAR
VERSION:2.0
PRODID:-//JB Organizing - ECPv6.15.10//NONSGML v1.0//EN
CALSCALE:GREGORIAN
METHOD:PUBLISH
X-WR-CALNAME:JB Organizing
X-ORIGINAL-URL:https://jborganizing.com
X-WR-CALDESC:Events for JB Organizing
REFRESH-INTERVAL;VALUE=DURATION:PT1H
X-Robots-Tag:noindex
X-PUBLISHED-TTL:PT1H
BEGIN:VTIMEZONE
TZID:UTC
BEGIN:STANDARD
TZOFFSETFROM:+0000
TZOFFSETTO:+0000
TZNAME:UTC
DTSTART:20210101T000000
END:STANDARD
END:VTIMEZONE
BEGIN:VEVENT
DTSTART;TZID=UTC:20221003T190000
DTEND;TZID=UTC:20221003T200000
DTSTAMP:20260423T072126
CREATED:20220728T022433Z
LAST-MODIFIED:20220728T022845Z
UID:4326-1664823600-1664827200@jborganizing.com
SUMMARY:Have an Idea for a Small Business? Here’s How you Start: Small Business Development Tips and Tactics
DESCRIPTION:This is a Free In Person event that is open to the public. \nJoin Us by registering via the included link. \nHave an Idea for a Small Business? Here’s How you Start: Small Business Development Tips and Tactics\nThis talk invites participants to go from a business idea to an actual business plan. We start with strategies for determining what kind of business you would be best suited for. Then we discuss how to write a simple business plan. Finally\, we work through simple marketing strategies that can be implemented to start the growth and continue it into the future. \nJoin us! Click here to register https://clarendonhillslibrary.org/
URL:https://jborganizing.com/event/have-an-idea-for-a-small-business-heres-how-you-start-small-business-development-tips-and-tactics-3/
LOCATION:Clarendon Hills Public Library\, 7 North Prospect Avenue\, Clarendon Hills\, IL\, 60514\, United States
CATEGORIES:Free Event,In Person Event,In Person Presentations,open to the public,Small Business Development
END:VEVENT
END:VCALENDAR