BEGIN:VCALENDAR
VERSION:2.0
PRODID:-//JB Organizing - ECPv6.15.10//NONSGML v1.0//EN
CALSCALE:GREGORIAN
METHOD:PUBLISH
X-WR-CALNAME:JB Organizing
X-ORIGINAL-URL:https://jborganizing.com
X-WR-CALDESC:Events for JB Organizing
REFRESH-INTERVAL;VALUE=DURATION:PT1H
X-Robots-Tag:noindex
X-PUBLISHED-TTL:PT1H
BEGIN:VTIMEZONE
TZID:UTC
BEGIN:STANDARD
TZOFFSETFROM:+0000
TZOFFSETTO:+0000
TZNAME:UTC
DTSTART:20210101T000000
END:STANDARD
END:VTIMEZONE
BEGIN:VEVENT
DTSTART;TZID=UTC:20220127T190000
DTEND;TZID=UTC:20220127T200000
DTSTAMP:20260423T221932
CREATED:20210828T024152Z
LAST-MODIFIED:20210828T024408Z
UID:3660-1643310000-1643313600@jborganizing.com
SUMMARY:Have an Idea for a Small Business? Here’s How you Start: Small Business Development Tips and Tactics
DESCRIPTION:This Free In-Person Event is Open to the Public. Join Us! \nRegister here by clicking through to the Messenger Public Library’s website. \nThis talk invites participants to go from a business idea to an actual business plan. We start with strategies for determining what kind of business you would be best suited for. Then we discuss how to write a simple business plan. Finally\, we work through simple marketing strategies that can be implemented to start the growth and continue it into the future.
URL:https://jborganizing.com/event/have-an-idea-for-a-small-business-heres-how-you-start-small-business-development-tips-and-tactics/
LOCATION:Messenger Public Library of North Aurora
CATEGORIES:Free Event,In Person Event,Small Business Development
END:VEVENT
END:VCALENDAR