BEGIN:VCALENDAR
VERSION:2.0
PRODID:-//JB Organizing - ECPv6.15.10//NONSGML v1.0//EN
CALSCALE:GREGORIAN
METHOD:PUBLISH
X-WR-CALNAME:JB Organizing
X-ORIGINAL-URL:https://jborganizing.com
X-WR-CALDESC:Events for JB Organizing
REFRESH-INTERVAL;VALUE=DURATION:PT1H
X-Robots-Tag:noindex
X-PUBLISHED-TTL:PT1H
BEGIN:VTIMEZONE
TZID:UTC
BEGIN:STANDARD
TZOFFSETFROM:+0000
TZOFFSETTO:+0000
TZNAME:UTC
DTSTART:20210101T000000
END:STANDARD
END:VTIMEZONE
BEGIN:VEVENT
DTSTART;TZID=UTC:20220510T190000
DTEND;TZID=UTC:20220510T200000
DTSTAMP:20260423T161417
CREATED:20220131T021135Z
LAST-MODIFIED:20220131T021135Z
UID:4057-1652209200-1652212800@jborganizing.com
SUMMARY:Have an Idea for a Small Business? Here’s How you Start: Small Business Development Tips and Tactics
DESCRIPTION:Free Virtual Event that is Open to the Public. \nRegister through the link below and Join Us! \nThis talk invites participants to go from a business idea to an actual business plan. We start with strategies for determining what kind of business you would be best suited for. Then we discuss how to write a simple business plan. Finally\, we work through simple marketing strategies that can be implemented to start the growth and continue it into the future. \nRegister through this link: https://blueislandlibrary.org/events/have-an-idea-for-a-small-business-heres-how-you-start-small-business-development-tips-and-tactics
URL:https://jborganizing.com/event/have-an-idea-for-a-small-business-heres-how-you-start-small-business-development-tips-and-tactics-2/
LOCATION:Virtual through Blue Island Public Library
CATEGORIES:Free Event,open to the public,Small Business Development,Virtual Event,Virtual Presentations
END:VEVENT
END:VCALENDAR