BEGIN:VCALENDAR
VERSION:2.0
PRODID:-//JB Organizing - ECPv6.15.10//NONSGML v1.0//EN
CALSCALE:GREGORIAN
METHOD:PUBLISH
X-ORIGINAL-URL:https://jborganizing.com
X-WR-CALDESC:Events for JB Organizing
REFRESH-INTERVAL;VALUE=DURATION:PT1H
X-Robots-Tag:noindex
X-PUBLISHED-TTL:PT1H
BEGIN:VTIMEZONE
TZID:UTC
BEGIN:STANDARD
TZOFFSETFROM:+0000
TZOFFSETTO:+0000
TZNAME:UTC
DTSTART:20250101T000000
END:STANDARD
END:VTIMEZONE
BEGIN:VEVENT
DTSTART;TZID=UTC:20260128T190000
DTEND;TZID=UTC:20260128T200000
DTSTAMP:20260419T210752
CREATED:20251029T224923Z
LAST-MODIFIED:20251029T224923Z
UID:13817-1769626800-1769630400@jborganizing.com
SUMMARY:Cut the Chaos\, Reduce the Stress: The IMPACT of Good Time and Task Management
DESCRIPTION:Cut the Chaos\, Reduce the Stress: The IMPACT of Good Time and Task Management\nHow do I get anything done when I am so busy? We answer this question by talking about boundaries and providing simple practical tips for how to manage our time. Next\, we look at the variety of tasks that we face and how to concretely and simply manage them day to day. Organization definitely comes into play with Time and Task Management and we help get you on the road to better organizational habits and end with a look at how to maintain those habits over time. \nFree Public Event
URL:https://jborganizing.com/event/cut-the-chaos-reduce-the-stress-the-impact-of-good-time-and-task-management-4/
LOCATION:Helen Plum Library\, 411 South Main Street\, Lombard\, Illinois\, 60148
CATEGORIES:Free Event,In Person Event,In Person Presentations,open to the public,Organizing
END:VEVENT
END:VCALENDAR