BEGIN:VCALENDAR
VERSION:2.0
PRODID:-//JB Organizing - ECPv6.15.10//NONSGML v1.0//EN
CALSCALE:GREGORIAN
METHOD:PUBLISH
X-WR-CALNAME:JB Organizing
X-ORIGINAL-URL:https://jborganizing.com
X-WR-CALDESC:Events for JB Organizing
REFRESH-INTERVAL;VALUE=DURATION:PT1H
X-Robots-Tag:noindex
X-PUBLISHED-TTL:PT1H
BEGIN:VTIMEZONE
TZID:UTC
BEGIN:STANDARD
TZOFFSETFROM:+0000
TZOFFSETTO:+0000
TZNAME:UTC
DTSTART:20210101T000000
END:STANDARD
END:VTIMEZONE
BEGIN:VEVENT
DTSTART;TZID=UTC:20221116T180000
DTEND;TZID=UTC:20221116T190000
DTSTAMP:20260422T162649
CREATED:20220802T020543Z
LAST-MODIFIED:20220802T020543Z
UID:4352-1668621600-1668625200@jborganizing.com
SUMMARY:Organizing 101: Managing the Paper Trail
DESCRIPTION:Organizing 101: Managing the Paper Trail\nDrowning in paper? We are all inundated by information and paper every day. “Managing the Paper Trail” helps each person determine what type of organizer they are and where the most common paper hotspots are in our homes. We then look at some practical ways to manage the different types of paper and information. In addition\, this talk addresses how we can use technology to help us tame the paper trail. Not sure what paper you have to keep and what you don’t? We will cover this information as well\, and work on instituting maintenance practices\, to prevent future feelings of “drowning in paper”. \nPrivate Group
URL:https://jborganizing.com/event/organizing-101-managing-the-paper-trail-5/
LOCATION:Wheeling\, IL
CATEGORIES:In Person Event,In Person Presentations,Organizing,Private Group
END:VEVENT
END:VCALENDAR