BEGIN:VCALENDAR
VERSION:2.0
PRODID:-//JB Organizing - ECPv6.15.10//NONSGML v1.0//EN
CALSCALE:GREGORIAN
METHOD:PUBLISH
X-ORIGINAL-URL:https://jborganizing.com
X-WR-CALDESC:Events for JB Organizing
REFRESH-INTERVAL;VALUE=DURATION:PT1H
X-Robots-Tag:noindex
X-PUBLISHED-TTL:PT1H
BEGIN:VTIMEZONE
TZID:UTC
BEGIN:STANDARD
TZOFFSETFROM:+0000
TZOFFSETTO:+0000
TZNAME:UTC
DTSTART:20230101T000000
END:STANDARD
END:VTIMEZONE
BEGIN:VEVENT
DTSTART;TZID=UTC:20240229T180000
DTEND;TZID=UTC:20240229T200000
DTSTAMP:20260421T184858
CREATED:20230921T191428Z
LAST-MODIFIED:20230921T191428Z
UID:5558-1709229600-1709236800@jborganizing.com
SUMMARY:Organizing and Mental Health: Practical Ways to Gain POWER Over Your Mental Health
DESCRIPTION:Private Event\nOrganizing and Mental Health: Practical Ways to Gain POWER Over Your Mental Health\nChaos has a direct impact on our Mental Health. Organization can help improve our Mental Health. In this talk we will look at how chaos in our physical space and in our mental space directly impacts mental health and how organization can help combat the chaos. Real world stories will be shared to help reinforce the fact that this is something that impacts everyone and you are not alone. Finally\, we will highlight 5 practical ways we can use Organization in our daily life to gain POWER over our Mental Health.
URL:https://jborganizing.com/event/organizing-and-mental-health-practical-ways-to-gain-power-over-your-mental-health/
LOCATION:Kindred Life Lindenhurst/Gurnee
CATEGORIES:Free Event,In Person Event,In Person Presentations,Organizing,Private Group
END:VEVENT
END:VCALENDAR