BEGIN:VCALENDAR
VERSION:2.0
PRODID:-//JB Organizing - ECPv6.15.10//NONSGML v1.0//EN
CALSCALE:GREGORIAN
METHOD:PUBLISH
X-ORIGINAL-URL:https://jborganizing.com
X-WR-CALDESC:Events for JB Organizing
REFRESH-INTERVAL;VALUE=DURATION:PT1H
X-Robots-Tag:noindex
X-PUBLISHED-TTL:PT1H
BEGIN:VTIMEZONE
TZID:UTC
BEGIN:STANDARD
TZOFFSETFROM:+0000
TZOFFSETTO:+0000
TZNAME:UTC
DTSTART:20200101T000000
END:STANDARD
END:VTIMEZONE
BEGIN:VEVENT
DTSTART;TZID=UTC:20210929T190000
DTEND;TZID=UTC:20210929T203000
DTSTAMP:20260423T195411
CREATED:20210816T012403Z
LAST-MODIFIED:20210816T012500Z
UID:3486-1632942000-1632947400@jborganizing.com
SUMMARY:Organizing Your Life with School Age Children and Teaching Them to Organize Theirs
DESCRIPTION:This FREE In Person Presentation is Open to the Public \nRegister by following the link below.  \nThis presentation is a perfect mix of some basic Organizational tips for people to apply at home and important information to share with kids so that they can more easily organize the information received at school. We look at what it means for a child to be responsible. Then we explore specific organizational tools that can be applied at home by the adults and serve as a powerful example to the kids. Next\, discussion turns to practical examples of what the kids can do to learn to be responsible and organized. Finally\, we look at how to maintain the new habits or organization. \nClick here to register!
URL:https://jborganizing.com/event/organizing-your-life-with-school-age-children-and-teaching-them-to-organize-theirs-2/
LOCATION:Geneva Public Library District\, \,227 S Seventh St\, Geneva\, Illinois\, 60134
CATEGORIES:Free Event,In Person Event,In Person Presentations,open to the public,Organizing,Parenting
END:VEVENT
END:VCALENDAR