BEGIN:VCALENDAR
VERSION:2.0
PRODID:-//JB Organizing - ECPv6.15.10//NONSGML v1.0//EN
CALSCALE:GREGORIAN
METHOD:PUBLISH
X-WR-CALNAME:JB Organizing
X-ORIGINAL-URL:https://jborganizing.com
X-WR-CALDESC:Events for JB Organizing
REFRESH-INTERVAL;VALUE=DURATION:PT1H
X-Robots-Tag:noindex
X-PUBLISHED-TTL:PT1H
BEGIN:VTIMEZONE
TZID:UTC
BEGIN:STANDARD
TZOFFSETFROM:+0000
TZOFFSETTO:+0000
TZNAME:UTC
DTSTART:20220101T000000
END:STANDARD
END:VTIMEZONE
BEGIN:VEVENT
DTSTART;TZID=UTC:20230308T190000
DTEND;TZID=UTC:20230308T200000
DTSTAMP:20260422T151540
CREATED:20230216T191032Z
LAST-MODIFIED:20230217T163813Z
UID:4580-1678302000-1678305600@jborganizing.com
SUMMARY:Organizing 101: Spring Cleaning Specifics
DESCRIPTION:Free In Person Event that is Open to the Public.\nRegister through the link below and Join Us!\nOrganizing 101: Spring Cleaning Specifics\nHere we look at how to apply some basic organizing principles for any area of our home. We examine the type of organizer we are and the type of organizers that live in our homes. We identify our special project hotspots and learn how to make the most effective spring cleaning plan. There is discussion of the most common areas that people tackle each spring\, along with practical ways to find time to finish the spring cleaning projects. Finally\, we examine how to make Spring Cleaning less stressful for future years\, by maintaining the organization of common areas. \nRegister for Free through this Link: https://elmhurstpubliclibrary.org/
URL:https://jborganizing.com/event/organizing-101-spring-cleaning-specifics-10/
LOCATION:Elmhurst Public Library\, 125 S. Prospect Avenue\, Elmhurst\, 60126\, United States
CATEGORIES:Free Event,In Person Event,In Person Presentations,open to the public,Organizing,Virtual Event,Virtual Presentations
END:VEVENT
END:VCALENDAR