BEGIN:VCALENDAR
VERSION:2.0
PRODID:-//JB Organizing - ECPv6.15.10//NONSGML v1.0//EN
CALSCALE:GREGORIAN
METHOD:PUBLISH
X-ORIGINAL-URL:https://jborganizing.com
X-WR-CALDESC:Events for JB Organizing
REFRESH-INTERVAL;VALUE=DURATION:PT1H
X-Robots-Tag:noindex
X-PUBLISHED-TTL:PT1H
BEGIN:VTIMEZONE
TZID:UTC
BEGIN:STANDARD
TZOFFSETFROM:+0000
TZOFFSETTO:+0000
TZNAME:UTC
DTSTART:20210101T000000
END:STANDARD
END:VTIMEZONE
BEGIN:VEVENT
DTSTART;TZID=UTC:20220207T110000
DTEND;TZID=UTC:20220207T120000
DTSTAMP:20260423T090710
CREATED:20220130T223934Z
LAST-MODIFIED:20220131T000553Z
UID:4006-1644231600-1644235200@jborganizing.com
SUMMARY:Organizing 101: Office Organizing Tips and Tricks
DESCRIPTION:Overcome office organization overwhelm! Is your office space causing you stress? Do you find yourself working in other spaces and not even using your office? In this presentation we look at the 5 Organizing Principles key to bringing ORDER to any space anywhere. We then look at applying these principles specifically to an office space and provide  tips and tools for making your office an efficient and pleasant place to work. We close with a look at how communication and organization go hand and hand\, and some solid strategies for maintaining the order that is achieved.
URL:https://jborganizing.com/event/organizing-101-office-organizing-tips-and-tricks/
LOCATION:Virtual through the IMPACT Business Group
CATEGORIES:Free Event,Organizing,Private Group,Virtual Event,Virtual Presentations
END:VEVENT
END:VCALENDAR