BEGIN:VCALENDAR
VERSION:2.0
PRODID:-//JB Organizing - ECPv6.15.10//NONSGML v1.0//EN
CALSCALE:GREGORIAN
METHOD:PUBLISH
X-ORIGINAL-URL:https://jborganizing.com
X-WR-CALDESC:Events for JB Organizing
REFRESH-INTERVAL;VALUE=DURATION:PT1H
X-Robots-Tag:noindex
X-PUBLISHED-TTL:PT1H
BEGIN:VTIMEZONE
TZID:UTC
BEGIN:STANDARD
TZOFFSETFROM:+0000
TZOFFSETTO:+0000
TZNAME:UTC
DTSTART:20220101T000000
END:STANDARD
END:VTIMEZONE
BEGIN:VEVENT
DTSTART;TZID=UTC:20230213T190000
DTEND;TZID=UTC:20230213T200000
DTSTAMP:20260422T114328
CREATED:20220925T034105Z
LAST-MODIFIED:20220925T034105Z
UID:4411-1676314800-1676318400@jborganizing.com
SUMMARY:Decluttering Our Hearts and Homes
DESCRIPTION:This Free In-Person Event is Open to the Public. \nRegister through the link below and Join Us! \n“I can’t get rid of that!” ….. This statement can be heard in every home\, in every business\, in every place…. No one is immune from the pull that “things” have on us. Everyone faces the task of decluttering at some point. In this presentation we look at specific steps to effectively declutter the spaces in which we live and work. We also examine the Why and How behind our emotional connection to things. We conclude with what we can do to embrace emotional and mental connections\, without letting them clutter our hearts. \nRegister for Free through the Elmhurst Public Library.
URL:https://jborganizing.com/event/decluttering-our-hearts-and-homes-2/
LOCATION:Elmhurst Public Library\, 125 S. Prospect Avenue\, Elmhurst\, 60126\, United States
CATEGORIES:Free Event,In Person Event,In Person Presentations,open to the public,Organizing
END:VEVENT
END:VCALENDAR