BEGIN:VCALENDAR
VERSION:2.0
PRODID:-//JB Organizing - ECPv6.15.10//NONSGML v1.0//EN
CALSCALE:GREGORIAN
METHOD:PUBLISH
X-ORIGINAL-URL:https://jborganizing.com
X-WR-CALDESC:Events for JB Organizing
REFRESH-INTERVAL;VALUE=DURATION:PT1H
X-Robots-Tag:noindex
X-PUBLISHED-TTL:PT1H
BEGIN:VTIMEZONE
TZID:UTC
BEGIN:STANDARD
TZOFFSETFROM:+0000
TZOFFSETTO:+0000
TZNAME:UTC
DTSTART:20220101T000000
END:STANDARD
END:VTIMEZONE
BEGIN:VEVENT
DTSTART;TZID=UTC:20230118T190000
DTEND;TZID=UTC:20230118T200000
DTSTAMP:20260422T145613
CREATED:20220924T005101Z
LAST-MODIFIED:20220925T034459Z
UID:4400-1674068400-1674072000@jborganizing.com
SUMMARY:Organizing 101: Creative Closets and Kitchens
DESCRIPTION:Free In-Person Event that is Open to the Public. \nRegister through the link below and Join Us! \nKitchens and Closets are two of the most commonly cluttered and overwhelming spots in a home. In this presentation we will first identify the major roadblocks to getting these spots organized. Then we will discuss the 5 Organizing Principles that are key to bringing ORDER to anything anywhere. From there we will look at some specific strategies and tools that can be used to organize our closets and kitchen. Finally\, we close with some tips for maintaining the organization once it is done. \nRegister for Free on the Wheaton Public Library’s website.
URL:https://jborganizing.com/event/organizing-101-creative-closets-and-kitchens/
LOCATION:Wheaton Public Library\, 225 N Cross St.\, Wheaton\, IL\, 60187\, United States
CATEGORIES:Free Event,In Person Event,In Person Presentations,open to the public,Organizing
END:VEVENT
END:VCALENDAR