BEGIN:VCALENDAR
VERSION:2.0
PRODID:-//JB Organizing - ECPv6.15.10//NONSGML v1.0//EN
CALSCALE:GREGORIAN
METHOD:PUBLISH
X-WR-CALNAME:JB Organizing
X-ORIGINAL-URL:https://jborganizing.com
X-WR-CALDESC:Events for JB Organizing
REFRESH-INTERVAL;VALUE=DURATION:PT1H
X-Robots-Tag:noindex
X-PUBLISHED-TTL:PT1H
BEGIN:VTIMEZONE
TZID:UTC
BEGIN:STANDARD
TZOFFSETFROM:+0000
TZOFFSETTO:+0000
TZNAME:UTC
DTSTART:20200101T000000
END:STANDARD
END:VTIMEZONE
BEGIN:VEVENT
DTSTART;TZID=UTC:20210420T190000
DTEND;TZID=UTC:20210420T203000
DTSTAMP:20260423T221407
CREATED:20201229T033144Z
LAST-MODIFIED:20201229T033338Z
UID:2299-1618945200-1618950600@jborganizing.com
SUMMARY:Time and Information Management: Organizing in a Digital World
DESCRIPTION:This Free Virtual Presentation is open to everyone! Join me!
URL:https://jborganizing.com/event/time-and-information-management-organizing-in-a-digital-world/
LOCATION:Messenger Public Library of North Aurora
CATEGORIES:Free Event,open to the public,Organizing,Virtual Event,Virtual Presentations
END:VEVENT
END:VCALENDAR