BEGIN:VCALENDAR
VERSION:2.0
PRODID:-//JB Organizing - ECPv6.15.10//NONSGML v1.0//EN
CALSCALE:GREGORIAN
METHOD:PUBLISH
X-WR-CALNAME:JB Organizing
X-ORIGINAL-URL:https://jborganizing.com
X-WR-CALDESC:Events for JB Organizing
REFRESH-INTERVAL;VALUE=DURATION:PT1H
X-Robots-Tag:noindex
X-PUBLISHED-TTL:PT1H
BEGIN:VTIMEZONE
TZID:UTC
BEGIN:STANDARD
TZOFFSETFROM:+0000
TZOFFSETTO:+0000
TZNAME:UTC
DTSTART:20200101T000000
END:STANDARD
END:VTIMEZONE
BEGIN:VEVENT
DTSTART;TZID=UTC:20210818T180000
DTEND;TZID=UTC:20210818T200000
DTSTAMP:20260423T153057
CREATED:20210816T003758Z
LAST-MODIFIED:20210816T011441Z
UID:3471-1629309600-1629316800@jborganizing.com
SUMMARY:Organizing Your Life with School Age Children and Teaching Them to Organize Theirs
DESCRIPTION:This FREE In Person Presentation is Open to the Public \nRegister by following the link below.  \nThis presentation is a perfect mix of some basic Organizational tips for people to apply at home and important information to share with kids so that they can more easily organize the information received at school. We look at what it means for a child to be responsible. Then we explore specific organizational tools that can be applied at home by the adults and serve as a powerful example to the kids. Next\, discussion turns to practical examples of what the kids can do to learn to be responsible and organized. Finally\, we look at how to maintain the new habits or organization. \nCome join us In Person or Virtually via Zoom \nClick here to register! \n 
URL:https://jborganizing.com/event/organizing-your-life-with-school-age-children-and-teaching-them-to-organize-theirs/
LOCATION:Irvin L. Young Memorial Library Whitewater\, WI\, 431 West Center Street\, Whitewater\,\, Wisconsin\, 53190
CATEGORIES:Free Event,In Person Event,In Person Presentations,open to the public,Organizing
END:VEVENT
END:VCALENDAR