BEGIN:VCALENDAR
VERSION:2.0
PRODID:-//JB Organizing - ECPv6.15.10//NONSGML v1.0//EN
CALSCALE:GREGORIAN
METHOD:PUBLISH
X-ORIGINAL-URL:https://jborganizing.com
X-WR-CALDESC:Events for JB Organizing
REFRESH-INTERVAL;VALUE=DURATION:PT1H
X-Robots-Tag:noindex
X-PUBLISHED-TTL:PT1H
BEGIN:VTIMEZONE
TZID:UTC
BEGIN:STANDARD
TZOFFSETFROM:+0000
TZOFFSETTO:+0000
TZNAME:UTC
DTSTART:20210101T000000
END:STANDARD
END:VTIMEZONE
BEGIN:VEVENT
DTSTART;TZID=UTC:20220110T183000
DTEND;TZID=UTC:20220110T193000
DTSTAMP:20260423T092433
CREATED:20211015T002431Z
LAST-MODIFIED:20211015T002915Z
UID:3795-1641839400-1641843000@jborganizing.com
SUMMARY:Decluttering Our Hearts and Homes: The Emotional Connection To Stuff
DESCRIPTION:Join us for this free Virtual Presentation! \n“I can’t get rid of that!” ….. This statement can be heard in every home\, in every business\, in every place…. No one is immune from the pull that “things” have on us. Everyone faces the task of decluttering at some point. In this presentation we look at specific steps to effectively declutter the spaces in which we live and work. We also examine the Why and How behind our emotional connection to things. We conclude with what we can do to embrace emotional and mental connections\, without letting them clutter our hearts. \nRegistration Begins 11/22/21 and can be found on the Crete Public Library District website.
URL:https://jborganizing.com/event/decluttering-our-hearts-and-homes-the-emotional-connection-to-stuff/
LOCATION:Crete Public Library District\, Virtual
CATEGORIES:Free Event,open to the public,Organizing,Virtual Event,Virtual Presentations
END:VEVENT
END:VCALENDAR