BEGIN:VCALENDAR
VERSION:2.0
PRODID:-//JB Organizing - ECPv6.15.10//NONSGML v1.0//EN
CALSCALE:GREGORIAN
METHOD:PUBLISH
X-WR-CALNAME:JB Organizing
X-ORIGINAL-URL:https://jborganizing.com
X-WR-CALDESC:Events for JB Organizing
REFRESH-INTERVAL;VALUE=DURATION:PT1H
X-Robots-Tag:noindex
X-PUBLISHED-TTL:PT1H
BEGIN:VTIMEZONE
TZID:UTC
BEGIN:STANDARD
TZOFFSETFROM:+0000
TZOFFSETTO:+0000
TZNAME:UTC
DTSTART:20230101T000000
END:STANDARD
END:VTIMEZONE
BEGIN:VEVENT
DTSTART;TZID=UTC:20240116T190000
DTEND;TZID=UTC:20240116T200000
DTSTAMP:20260421T210944
CREATED:20230917T205432Z
LAST-MODIFIED:20230917T205432Z
UID:5527-1705431600-1705435200@jborganizing.com
SUMMARY:Organizing 101: Cut the Chaos\, Reduce the Stress: The IMPACT of Good Time and Task Management
DESCRIPTION:Free Virtual Event that is Open to the Public.  \nRegister through the link below and Join Us! \n\n\n\nCut the Chaos\, Reduce the Stress: The IMPACT of Good Time and Task Management\nHow do I get anything done when I am so busy? We answer this question by talking about boundaries and providing simple practical tips for how to manage our time. Next\, we look at the variety of tasks that we face and how to concretely and simply manage them day to day. Organization definitely comes into play with Time and Task Management and we help get you on the road to better organizational habits and end with a look at how to maintain those habits over time. \n\n\n\nRegister for Free through the Cook Memorial Library
URL:https://jborganizing.com/event/organizing-101-cut-the-chaos-reduce-the-stress-the-impact-of-good-time-and-task-management/
LOCATION:Virtual through Cook Memorial Public Library District
CATEGORIES:Free Event,open to the public,Organizing,Virtual Event,Virtual Presentations
END:VEVENT
END:VCALENDAR